BEGIN:VCALENDAR
VERSION:2.0
PRODID:-//HDSI - ECPv6.15.20//NONSGML v1.0//EN
CALSCALE:GREGORIAN
METHOD:PUBLISH
X-WR-CALNAME:HDSI
X-ORIGINAL-URL:https://hdsi.uchicago.edu
X-WR-CALDESC:Events for HDSI
REFRESH-INTERVAL;VALUE=DURATION:PT1H
X-Robots-Tag:noindex
X-PUBLISHED-TTL:PT1H
BEGIN:VTIMEZONE
TZID:America/Chicago
BEGIN:DAYLIGHT
TZOFFSETFROM:-0600
TZOFFSETTO:-0500
TZNAME:CDT
DTSTART:20250309T080000
END:DAYLIGHT
BEGIN:STANDARD
TZOFFSETFROM:-0500
TZOFFSETTO:-0600
TZNAME:CST
DTSTART:20251102T070000
END:STANDARD
BEGIN:DAYLIGHT
TZOFFSETFROM:-0600
TZOFFSETTO:-0500
TZNAME:CDT
DTSTART:20260308T080000
END:DAYLIGHT
BEGIN:STANDARD
TZOFFSETFROM:-0500
TZOFFSETTO:-0600
TZNAME:CST
DTSTART:20261101T070000
END:STANDARD
BEGIN:DAYLIGHT
TZOFFSETFROM:-0600
TZOFFSETTO:-0500
TZNAME:CDT
DTSTART:20270314T080000
END:DAYLIGHT
BEGIN:STANDARD
TZOFFSETFROM:-0500
TZOFFSETTO:-0600
TZNAME:CST
DTSTART:20271107T070000
END:STANDARD
END:VTIMEZONE
BEGIN:VEVENT
DTSTART;VALUE=DATE:20260518
DTEND;VALUE=DATE:20260519
DTSTAMP:20260421T140229
CREATED:20260324T223627Z
LAST-MODIFIED:20260324T224604Z
UID:17313-1779062400-1779148799@hdsi.uchicago.edu
SUMMARY:Travel Grant Deadline for Conferences June 2026 and Beyond: May 18\, 2026
DESCRIPTION:
URL:https://hdsi.uchicago.edu/event/travel-grant-deadline-for-conferences-june-2026-and-beyond-may-18-2026/
ATTACH;FMTTYPE=image/jpeg:https://hdsi.uchicago.edu/wp-content/uploads/2023/06/patient-care-services.jpg
END:VEVENT
BEGIN:VEVENT
DTSTART;VALUE=DATE:20260817
DTEND;VALUE=DATE:20260818
DTSTAMP:20260421T140229
CREATED:20260324T224156Z
LAST-MODIFIED:20260324T224640Z
UID:17315-1786924800-1787011199@hdsi.uchicago.edu
SUMMARY:Travel Grant Deadline for Conferences September 2026 and Beyond: August 17\, 2026
DESCRIPTION:
URL:https://hdsi.uchicago.edu/event/travel-grant-deadline-for-conferences-september-2026-and-beyond-august-17-2026/
ATTACH;FMTTYPE=image/jpeg:https://hdsi.uchicago.edu/wp-content/uploads/2023/06/patient-care-services.jpg
END:VEVENT
BEGIN:VEVENT
DTSTART;VALUE=DATE:20261116
DTEND;VALUE=DATE:20261117
DTSTAMP:20260421T140229
CREATED:20260324T224321Z
LAST-MODIFIED:20260324T224622Z
UID:17318-1794787200-1794873599@hdsi.uchicago.edu
SUMMARY:Travel Grant Deadline for Conferences December 2026 and Beyond: November 16\, 2026
DESCRIPTION:
URL:https://hdsi.uchicago.edu/event/travel-grant-deadline-for-conferences-december-2026-and-beyond-november-16-2026/
ATTACH;FMTTYPE=image/jpeg:https://hdsi.uchicago.edu/wp-content/uploads/2023/06/patient-care-services.jpg
END:VEVENT
END:VCALENDAR